BEGIN:VCALENDAR
VERSION:2.0
PRODID:-//Tukios.com/
BEGIN:VEVENT
UID:94eee536-b5d7-4668-950e-bdb5638f1864@www.merrittfh.com
DTSTAMP:20260420T192651Z
DTSTART:20260428T160000Z
DTEND:20260428T180000Z
SUMMARY:Visitation
DESCRIPTION:
URL:https://www.merrittfh.com/obituaries/joyce-hoelzer
LOCATION:Horner-Merritt Funeral Home 800 Monroe St  Mendota IL 61342
GEO:41.5505113;-89.1197867
END:VEVENT
END:VCALENDAR