BEGIN:VCALENDAR
VERSION:2.0
PRODID:-//Tukios.com/
BEGIN:VEVENT
UID:37a94331-e8cd-43df-956a-aced0b955c1b@www.merrittfh.com
DTSTAMP:20260420T192851Z
DTSTART:20260428T180000Z
DTEND:20260428T190000Z
SUMMARY:Funeral Service
DESCRIPTION:
URL:https://www.merrittfh.com/obituaries/joyce-hoelzer
LOCATION:Horner-Merritt Funeral Home 800 Monroe St  Mendota IL 61342
GEO:41.5505113;-89.1197867
END:VEVENT
END:VCALENDAR